{
 "currentVersion": 10.71,
 "serviceDescription": "Lafayette County Basemap",
 "mapName": "Layers",
 "description": "",
 "copyrightText": "",
 "supportsDynamicLayers": true,
 "layers": [
  {
   "id": 0,
   "name": "Parcels",
   "parentLayerId": -1,
   "defaultVisibility": true,
   "subLayerIds": null,
   "minScale": 0,
   "maxScale": 0,
   "type": "Feature Layer",
   "geometryType": "esriGeometryPolygon"
  }
 ],
 "tables": [],
 "spatialReference": {
  "wkid": 102660,
  "latestWkid": 2238
 },
 "singleFusedMapCache": true,
 "tileInfo": {
  "rows": 256,
  "cols": 256,
  "dpi": 96,
  "format": "MIXED",
  "compressionQuality": 75,
  "origin": {
   "x": -125939000,
   "y": 164361700
  },
  "spatialReference": {
   "wkid": 102660,
   "latestWkid": 2238
  },
  "lods": [
   {
    "level": 0,
    "resolution": 434.02777777777777,
    "scale": 500000
   },
   {
    "level": 1,
    "resolution": 217.01388888888889,
    "scale": 250000
   },
   {
    "level": 2,
    "resolution": 108.50694444444444,
    "scale": 125000
   },
   {
    "level": 3,
    "resolution": 55.55555555555555,
    "scale": 64000
   },
   {
    "level": 4,
    "resolution": 27.777777777777775,
    "scale": 32000
   },
   {
    "level": 5,
    "resolution": 13.888888888888888,
    "scale": 16000
   },
   {
    "level": 6,
    "resolution": 6.944444444444444,
    "scale": 8000
   },
   {
    "level": 7,
    "resolution": 3.472222222222222,
    "scale": 4000
   },
   {
    "level": 8,
    "resolution": 1.736111111111111,
    "scale": 2000
   },
   {
    "level": 9,
    "resolution": 0.8680555555555555,
    "scale": 1000
   },
   {
    "level": 10,
    "resolution": 0.43402777777777773,
    "scale": 500
   }
  ]
 },
 "initialExtent": {
  "xmin": 2181193.978466367,
  "ymin": 456027.27841506596,
  "xmax": 2389659.037828067,
  "ymax": 605449.2276094488,
  "spatialReference": {
   "wkid": 102660,
   "latestWkid": 2238
  }
 },
 "fullExtent": {
  "xmin": 2325903.8660046756,
  "ymin": 300925.7490555048,
  "xmax": 2483230.7865864187,
  "ymax": 460624.3745395094,
  "spatialReference": {
   "wkid": 102660,
   "latestWkid": 2238
  }
 },
 "minScale": 500000,
 "maxScale": 500,
 "minLOD": 0,
 "maxLOD": 10,
 "units": "esriFeet",
 "supportedImageFormatTypes": "PNG32,PNG24,PNG,JPG,DIB,TIFF,EMF,PS,PDF,GIF,SVG,SVGZ,BMP",
 "documentInfo": {
  "Title": "",
  "Author": "",
  "Comments": "",
  "Subject": "",
  "Category": "",
  "AntialiasingMode": "None",
  "TextAntialiasingMode": "Force",
  "Keywords": "Lafayette"
 },
 "capabilities": "Map,Query,Data",
 "supportedQueryFormats": "JSON, geoJSON",
 "exportTilesAllowed": false,
 "supportsDatumTransformation": true,
 "maxRecordCount": 1000,
 "maxImageHeight": 4096,
 "maxImageWidth": 4096,
 "supportedExtensions": ""
}
