{
 "currentVersion": 10.71,
 "serviceDescription": "",
 "mapName": "Layers",
 "description": "",
 "copyrightText": "",
 "supportsDynamicLayers": true,
 "layers": [
  {
   "id": 0,
   "name": "HCNV_RoadCenterlines",
   "parentLayerId": -1,
   "defaultVisibility": true,
   "subLayerIds": null,
   "minScale": 0,
   "maxScale": 0,
   "type": "Feature Layer",
   "geometryType": "esriGeometryPolyline"
  }
 ],
 "tables": [],
 "spatialReference": {
  "wkid": 102709,
  "latestWkid": 3423
 },
 "singleFusedMapCache": true,
 "tileInfo": {
  "rows": 256,
  "cols": 256,
  "dpi": 96,
  "format": "MIXED",
  "compressionQuality": 75,
  "origin": {
   "x": -15822000,
   "y": 3.3315599999999993E7
  },
  "spatialReference": {
   "wkid": 102709,
   "latestWkid": 3423
  },
  "lods": [
   {
    "level": 0,
    "resolution": 1736.111111111111,
    "scale": 2000000
   },
   {
    "level": 1,
    "resolution": 868.0555555555555,
    "scale": 1000000
   },
   {
    "level": 2,
    "resolution": 434.02777777777777,
    "scale": 500000
   },
   {
    "level": 3,
    "resolution": 217.01388888888889,
    "scale": 250000
   },
   {
    "level": 4,
    "resolution": 108.50694444444444,
    "scale": 125000
   },
   {
    "level": 5,
    "resolution": 55.55555555555555,
    "scale": 64000
   },
   {
    "level": 6,
    "resolution": 27.777777777777775,
    "scale": 32000
   },
   {
    "level": 7,
    "resolution": 13.888888888888888,
    "scale": 16000
   },
   {
    "level": 8,
    "resolution": 6.944444444444444,
    "scale": 8000
   },
   {
    "level": 9,
    "resolution": 3.472222222222222,
    "scale": 4000
   },
   {
    "level": 10,
    "resolution": 1.736111111111111,
    "scale": 2000
   },
   {
    "level": 11,
    "resolution": 0.8680555555555555,
    "scale": 1000
   }
  ]
 },
 "initialExtent": {
  "xmin": 2503707.3553587534,
  "ymin": 1.5401839424594471E7,
  "xmax": 3058915.6886920854,
  "ymax": 1.5737776924594471E7,
  "spatialReference": {
   "wkid": 102709,
   "latestWkid": 3423
  }
 },
 "fullExtent": {
  "xmin": 2417723.0926593468,
  "ymin": 1.5255439720955528E7,
  "xmax": 3060803.402952844,
  "ymax": 1.5765904157045618E7,
  "spatialReference": {
   "wkid": 102709,
   "latestWkid": 3423
  }
 },
 "minScale": 2000000,
 "maxScale": 1000,
 "minLOD": 0,
 "maxLOD": 11,
 "units": "esriFeet",
 "supportedImageFormatTypes": "PNG32,PNG24,PNG,JPG,DIB,TIFF,EMF,PS,PDF,GIF,SVG,SVGZ,BMP",
 "documentInfo": {
  "Title": "",
  "Author": "",
  "Comments": "",
  "Subject": "",
  "Category": "",
  "AntialiasingMode": "None",
  "TextAntialiasingMode": "Force",
  "Keywords": "Humboldt"
 },
 "capabilities": "Map,Query,Data",
 "supportedQueryFormats": "JSON, geoJSON",
 "exportTilesAllowed": false,
 "supportsDatumTransformation": true,
 "maxRecordCount": 1000,
 "maxImageHeight": 4096,
 "maxImageWidth": 4096,
 "supportedExtensions": ""
}
