{
 "currentVersion": 10.71,
 "serviceDescription": "",
 "mapName": "Layers",
 "description": "",
 "copyrightText": "",
 "supportsDynamicLayers": true,
 "layers": [
  {
   "id": 0,
   "name": "TaxBoundary",
   "parentLayerId": -1,
   "defaultVisibility": true,
   "subLayerIds": null,
   "minScale": 0,
   "maxScale": 0,
   "type": "Feature Layer",
   "geometryType": "esriGeometryPolyline"
  }
 ],
 "tables": [],
 "spatialReference": {
  "wkid": 102658,
  "latestWkid": 2236
 },
 "singleFusedMapCache": true,
 "tileInfo": {
  "rows": 256,
  "cols": 256,
  "dpi": 96,
  "format": "PNG8",
  "compressionQuality": 0,
  "origin": {
   "x": -17791300,
   "y": 2.3981099999999993E7
  },
  "spatialReference": {
   "wkid": 102658,
   "latestWkid": 2236
  },
  "lods": [
   {
    "level": 0,
    "resolution": 6944.444444444444,
    "scale": 8000000
   },
   {
    "level": 1,
    "resolution": 3472.222222222222,
    "scale": 4000000
   },
   {
    "level": 2,
    "resolution": 1736.111111111111,
    "scale": 2000000
   },
   {
    "level": 3,
    "resolution": 868.0555555555555,
    "scale": 1000000
   },
   {
    "level": 4,
    "resolution": 434.02777777777777,
    "scale": 500000
   },
   {
    "level": 5,
    "resolution": 217.01388888888889,
    "scale": 250000
   },
   {
    "level": 6,
    "resolution": 108.50694444444444,
    "scale": 125000
   },
   {
    "level": 7,
    "resolution": 55.55555555555555,
    "scale": 64000
   },
   {
    "level": 8,
    "resolution": 27.777777777777775,
    "scale": 32000
   },
   {
    "level": 9,
    "resolution": 13.888888888888888,
    "scale": 16000
   },
   {
    "level": 10,
    "resolution": 6.944444444444444,
    "scale": 8000
   },
   {
    "level": 11,
    "resolution": 3.472222222222222,
    "scale": 4000
   },
   {
    "level": 12,
    "resolution": 1.736111111111111,
    "scale": 2000
   },
   {
    "level": 13,
    "resolution": 0.8680555555555555,
    "scale": 1000
   },
   {
    "level": 14,
    "resolution": 0.43402777777777773,
    "scale": 500
   }
  ]
 },
 "initialExtent": {
  "xmin": 494930.03511269175,
  "ymin": 1185871.9322706203,
  "xmax": 495124.63338976604,
  "ymax": 1185954.826082153,
  "spatialReference": {
   "wkid": 102658,
   "latestWkid": 2236
  }
 },
 "fullExtent": {
  "xmin": 472959.5160273351,
  "ymin": 981047.6698344201,
  "xmax": 675404.2613995001,
  "ymax": 1204616.3066857532,
  "spatialReference": {
   "wkid": 102658,
   "latestWkid": 2236
  }
 },
 "minScale": 8000000,
 "maxScale": 500,
 "minLOD": 0,
 "maxLOD": 14,
 "units": "esriFeet",
 "supportedImageFormatTypes": "PNG32,PNG24,PNG,JPG,DIB,TIFF,EMF,PS,PDF,GIF,SVG,SVGZ,BMP",
 "documentInfo": {
  "Title": "",
  "Author": "",
  "Comments": "",
  "Subject": "Highlands County Tax Boundaries with Measurements",
  "Category": "",
  "AntialiasingMode": "Fast",
  "TextAntialiasingMode": "Force",
  "Keywords": "highlands"
 },
 "capabilities": "Map",
 "supportedQueryFormats": "JSON, geoJSON",
 "exportTilesAllowed": false,
 "supportsDatumTransformation": true,
 "maxRecordCount": 1000,
 "maxImageHeight": 4096,
 "maxImageWidth": 4096,
 "supportedExtensions": ""
}
