<?xml version="1.0" encoding="UTF-8"?>
<Capabilities xmlns="http://www.opengis.net/wmts/1.0"
xmlns:ows="http://www.opengis.net/ows/1.1"
xmlns:xlink="http://www.w3.org/1999/xlink"
xmlns:xsi="http://www.w3.org/2001/XMLSchema-instance"
xmlns:gml="http://www.opengis.net/gml"
xsi:schemaLocation="http://www.opengis.net/wmts/1.0 http://schemas.opengis.net/wmts/1.0/wmtsGetCapabilities_response.xsd"
version="1.0.0">
<!-- Service Identification --> <ows:ServiceIdentification>
<ows:Title>Highlands_HighlandsCounty_Aerials2026_SID_Countywide</ows:Title>
<ows:ServiceType>OGC WMTS</ows:ServiceType>
<ows:ServiceTypeVersion>1.0.0</ows:ServiceTypeVersion>
</ows:ServiceIdentification> <!-- Operations Metadata --> <ows:OperationsMetadata>
<ows:Operation name="GetCapabilities">
<ows:DCP>
<ows:HTTP>
<ows:Get xlink:href="https://gis11.cama.io/arcgis/rest/services/Highlands/HighlandsCounty_Aerials2026_SID_Countywide/MapServer/WMTS/1.0.0/WMTSCapabilities.xml">
<ows:Constraint name="GetEncoding">
<ows:AllowedValues>
<ows:Value>RESTful</ows:Value>
</ows:AllowedValues>
</ows:Constraint>
</ows:Get>
<!-- add KVP binding in 10.1 -->
<ows:Get xlink:href="https://gis11.cama.io/arcgis/rest/services/Highlands/HighlandsCounty_Aerials2026_SID_Countywide/MapServer/WMTS?">
<ows:Constraint name="GetEncoding">
<ows:AllowedValues>
<ows:Value>KVP</ows:Value>
</ows:AllowedValues>
</ows:Constraint>
</ows:Get>
</ows:HTTP>
</ows:DCP>
</ows:Operation>
<ows:Operation name="GetTile">
<ows:DCP>
<ows:HTTP>
<ows:Get xlink:href="https://gis11.cama.io/arcgis/rest/services/Highlands/HighlandsCounty_Aerials2026_SID_Countywide/MapServer/WMTS/tile/1.0.0/">
<ows:Constraint name="GetEncoding">
<ows:AllowedValues>
<ows:Value>RESTful</ows:Value>
</ows:AllowedValues>
</ows:Constraint>
</ows:Get>
<ows:Get xlink:href="https://gis11.cama.io/arcgis/rest/services/Highlands/HighlandsCounty_Aerials2026_SID_Countywide/MapServer/WMTS?">
<ows:Constraint name="GetEncoding">
<ows:AllowedValues>
<ows:Value>KVP</ows:Value>
</ows:AllowedValues>
</ows:Constraint>
</ows:Get>
</ows:HTTP>
</ows:DCP>
</ows:Operation>
</ows:OperationsMetadata> <Contents>
<!--Layer--> <Layer>
<ows:Title>Highlands_HighlandsCounty_Aerials2026_SID_Countywide</ows:Title> <ows:Identifier>Highlands_HighlandsCounty_Aerials2026_SID_Countywide</ows:Identifier>
<ows:BoundingBox crs="urn:ogc:def:crs:EPSG::6438">
<ows:LowerCorner>469999.99963666126 974999.9993304047</ows:LowerCorner>
<ows:UpperCorner>679999.9996366613 1209999.9993304089</ows:UpperCorner>
</ows:BoundingBox> <ows:WGS84BoundingBox crs="urn:ogc:def:crs:OGC:2:84">
<ows:LowerCorner>-81.57512742600751 27.014873392346264</ows:LowerCorner>
<ows:UpperCorner>-80.92636985007103 27.662483754202807</ows:UpperCorner>
</ows:WGS84BoundingBox>
<Style isDefault="true">
<ows:Title>Default Style</ows:Title>
<ows:Identifier>default</ows:Identifier>
</Style>
<Format>image/jpgpng</Format>
<TileMatrixSetLink>
<TileMatrixSet>default028mm</TileMatrixSet>
</TileMatrixSetLink>
<ResourceURL format="image/jpgpng" resourceType="tile" template="https://gis11.cama.io/arcgis/rest/services/Highlands/HighlandsCounty_Aerials2026_SID_Countywide/MapServer/WMTS/tile/1.0.0/Highlands_HighlandsCounty_Aerials2026_SID_Countywide/{Style}/{TileMatrixSet}/{TileMatrix}/{TileRow}/{TileCol}" />
</Layer> <!--TileMatrixSet-->
<TileMatrixSet>
<ows:Title>TileMatrix using 0.28mm</ows:Title>
<ows:Abstract>The tile matrix set that has scale values calculated based on the dpi defined by OGC specification (dpi assumes 0.28mm as the physical distance of a pixel).</ows:Abstract> <ows:Identifier>default028mm</ows:Identifier>
<ows:SupportedCRS>urn:ogc:def:crs:EPSG::6438</ows:SupportedCRS>
<TileMatrix>
<ows:Identifier>0</ows:Identifier>
<ScaleDenominator>7559538.928600716</ScaleDenominator>
<TopLeftCorner>-1.77913E7 2.39811E7</TopLeftCorner> <TileWidth>256</TileWidth> <TileHeight>256</TileHeight>
<MatrixWidth>11</MatrixWidth> <MatrixHeight>13</MatrixHeight>
</TileMatrix>
<TileMatrix>
<ows:Identifier>1</ows:Identifier>
<ScaleDenominator>3779769.464300358</ScaleDenominator>
<TopLeftCorner>-1.77913E7 2.39811E7</TopLeftCorner> <TileWidth>256</TileWidth> <TileHeight>256</TileHeight>
<MatrixWidth>21</MatrixWidth> <MatrixHeight>26</MatrixHeight>
</TileMatrix>
<TileMatrix>
<ows:Identifier>2</ows:Identifier>
<ScaleDenominator>1889884.732150179</ScaleDenominator>
<TopLeftCorner>-1.77913E7 2.39811E7</TopLeftCorner> <TileWidth>256</TileWidth> <TileHeight>256</TileHeight>
<MatrixWidth>42</MatrixWidth> <MatrixHeight>52</MatrixHeight>
</TileMatrix>
<TileMatrix>
<ows:Identifier>3</ows:Identifier>
<ScaleDenominator>944942.3660750896</ScaleDenominator>
<TopLeftCorner>-1.77913E7 2.39811E7</TopLeftCorner> <TileWidth>256</TileWidth> <TileHeight>256</TileHeight>
<MatrixWidth>84</MatrixWidth> <MatrixHeight>104</MatrixHeight>
</TileMatrix>
<TileMatrix>
<ows:Identifier>4</ows:Identifier>
<ScaleDenominator>472471.1830375448</ScaleDenominator>
<TopLeftCorner>-1.77913E7 2.39811E7</TopLeftCorner> <TileWidth>256</TileWidth> <TileHeight>256</TileHeight>
<MatrixWidth>167</MatrixWidth> <MatrixHeight>208</MatrixHeight>
</TileMatrix>
<TileMatrix>
<ows:Identifier>5</ows:Identifier>
<ScaleDenominator>236235.5915187724</ScaleDenominator>
<TopLeftCorner>-1.77913E7 2.39811E7</TopLeftCorner> <TileWidth>256</TileWidth> <TileHeight>256</TileHeight>
<MatrixWidth>333</MatrixWidth> <MatrixHeight>415</MatrixHeight>
</TileMatrix>
<TileMatrix>
<ows:Identifier>6</ows:Identifier>
<ScaleDenominator>118117.7957593862</ScaleDenominator>
<TopLeftCorner>-1.77913E7 2.39811E7</TopLeftCorner> <TileWidth>256</TileWidth> <TileHeight>256</TileHeight>
<MatrixWidth>665</MatrixWidth> <MatrixHeight>829</MatrixHeight>
</TileMatrix>
<TileMatrix>
<ows:Identifier>7</ows:Identifier>
<ScaleDenominator>60476.311428805726</ScaleDenominator>
<TopLeftCorner>-1.77913E7 2.39811E7</TopLeftCorner> <TileWidth>256</TileWidth> <TileHeight>256</TileHeight>
<MatrixWidth>1299</MatrixWidth> <MatrixHeight>1618</MatrixHeight>
</TileMatrix>
<TileMatrix>
<ows:Identifier>8</ows:Identifier>
<ScaleDenominator>30238.155714402863</ScaleDenominator>
<TopLeftCorner>-1.77913E7 2.39811E7</TopLeftCorner> <TileWidth>256</TileWidth> <TileHeight>256</TileHeight>
<MatrixWidth>2598</MatrixWidth> <MatrixHeight>3236</MatrixHeight>
</TileMatrix>
<TileMatrix>
<ows:Identifier>9</ows:Identifier>
<ScaleDenominator>15119.077857201431</ScaleDenominator>
<TopLeftCorner>-1.77913E7 2.39811E7</TopLeftCorner> <TileWidth>256</TileWidth> <TileHeight>256</TileHeight>
<MatrixWidth>5196</MatrixWidth> <MatrixHeight>6471</MatrixHeight>
</TileMatrix>
<TileMatrix>
<ows:Identifier>10</ows:Identifier>
<ScaleDenominator>7559.538928600716</ScaleDenominator>
<TopLeftCorner>-1.77913E7 2.39811E7</TopLeftCorner> <TileWidth>256</TileWidth> <TileHeight>256</TileHeight>
<MatrixWidth>10391</MatrixWidth> <MatrixHeight>12941</MatrixHeight>
</TileMatrix>
<TileMatrix>
<ows:Identifier>11</ows:Identifier>
<ScaleDenominator>3779.769464300358</ScaleDenominator>
<TopLeftCorner>-1.77913E7 2.39811E7</TopLeftCorner> <TileWidth>256</TileWidth> <TileHeight>256</TileHeight>
<MatrixWidth>20781</MatrixWidth> <MatrixHeight>25882</MatrixHeight>
</TileMatrix>
<TileMatrix>
<ows:Identifier>12</ows:Identifier>
<ScaleDenominator>1889.884732150179</ScaleDenominator>
<TopLeftCorner>-1.77913E7 2.39811E7</TopLeftCorner> <TileWidth>256</TileWidth> <TileHeight>256</TileHeight>
<MatrixWidth>41561</MatrixWidth> <MatrixHeight>51764</MatrixHeight>
</TileMatrix>
<TileMatrix>
<ows:Identifier>13</ows:Identifier>
<ScaleDenominator>944.9423660750895</ScaleDenominator>
<TopLeftCorner>-1.77913E7 2.39811E7</TopLeftCorner> <TileWidth>256</TileWidth> <TileHeight>256</TileHeight>
<MatrixWidth>83121</MatrixWidth> <MatrixHeight>103528</MatrixHeight>
</TileMatrix>
<TileMatrix>
<ows:Identifier>14</ows:Identifier>
<ScaleDenominator>472.47118303754473</ScaleDenominator>
<TopLeftCorner>-1.77913E7 2.39811E7</TopLeftCorner> <TileWidth>256</TileWidth> <TileHeight>256</TileHeight>
<MatrixWidth>166242</MatrixWidth> <MatrixHeight>207055</MatrixHeight>
</TileMatrix>
</TileMatrixSet>
</Contents>
<ServiceMetadataURL xlink:href="https://gis11.cama.io/arcgis/rest/services/Highlands/HighlandsCounty_Aerials2026_SID_Countywide/MapServer/WMTS/1.0.0/WMTSCapabilities.xml" /> </Capabilities>
